BEGIN:VCALENDAR
VERSION:2.0
PRODID:-//Millington and Rostherne Parish Council//Meeting Calendar//EN
CALSCALE:GREGORIAN
METHOD:PUBLISH
BEGIN:VEVENT
UID:70816-20250311@millingtonandrostherne-pc.gov.uk
DTSTAMP:20260420T081647Z
DTSTART;VALUE=DATE:20250311
DTEND;VALUE=DATE:20250312
SUMMARY:Council Meeting 2025-03
DESCRIPTION:Full Council Meeting\nView details: https://millingtonandrostherne-pc.gov.uk/meetings/council-meeting-2025-03/
URL:https://millingtonandrostherne-pc.gov.uk/meetings/council-meeting-2025-03/
END:VEVENT
END:VCALENDAR
