BEGIN:VCALENDAR
VERSION:2.0
PRODID:-//Millington and Rostherne Parish Council//Meeting Calendar//EN
CALSCALE:GREGORIAN
METHOD:PUBLISH
BEGIN:VEVENT
UID:70713-20230517@millingtonandrostherne-pc.gov.uk
DTSTAMP:20260421T082409Z
DTSTART;VALUE=DATE:20230517
DTEND;VALUE=DATE:20230518
SUMMARY:Council Meeting &#8211\\; 2023-05
DESCRIPTION:Annual Council Meeting\nView details: https://millingtonandrostherne-pc.gov.uk/meetings/council-meeting-2023-05/
URL:https://millingtonandrostherne-pc.gov.uk/meetings/council-meeting-2023-05/
END:VEVENT
END:VCALENDAR
